Package: InTAD Version: 1.26.0 Command: /Library/Frameworks/R.framework/Resources/bin/R CMD INSTALL InTAD StartedAt: 2025-03-31 16:35:10 -0400 (Mon, 31 Mar 2025) EndedAt: 2025-03-31 16:36:24 -0400 (Mon, 31 Mar 2025) EllapsedTime: 74.0 seconds RetCode: 0 Status: OK