Package: InteractiveComplexHeatmap Version: 1.14.0 Command: /Library/Frameworks/R.framework/Resources/bin/R CMD INSTALL InteractiveComplexHeatmap StartedAt: 2025-03-31 16:36:41 -0400 (Mon, 31 Mar 2025) EndedAt: 2025-03-31 16:36:56 -0400 (Mon, 31 Mar 2025) EllapsedTime: 14.9 seconds RetCode: 0 Status: OK