Package: LinkHD Version: 1.20.0 Command: /Library/Frameworks/R.framework/Resources/bin/R CMD INSTALL LinkHD StartedAt: 2025-03-31 18:10:43 -0400 (Mon, 31 Mar 2025) EndedAt: 2025-03-31 18:11:14 -0400 (Mon, 31 Mar 2025) EllapsedTime: 30.9 seconds RetCode: 0 Status: OK