Package: LymphoSeq Version: 1.34.0 Command: /home/biocbuild/R/R/bin/R CMD INSTALL LymphoSeq StartedAt: 2025-03-31 20:37:33 -0000 (Mon, 31 Mar 2025) EndedAt: 2025-03-31 20:37:56 -0000 (Mon, 31 Mar 2025) EllapsedTime: 23.5 seconds RetCode: 0 Status: OK