Package: MBECS Version: 1.10.0 Command: /Library/Frameworks/R.framework/Resources/bin/R CMD build --keep-empty-dirs --no-resave-data MBECS StartedAt: 2025-04-01 02:24:13 -0400 (Tue, 01 Apr 2025) EndedAt: 2025-04-01 02:25:25 -0400 (Tue, 01 Apr 2025) EllapsedTime: 71.8 seconds RetCode: 1 Status: ERROR PackageFile: None PackageFileSize: NA