Package: MPAC Version: 1.0.0 Command: /Library/Frameworks/R.framework/Resources/bin/R CMD INSTALL MPAC StartedAt: 2025-03-31 17:48:30 -0400 (Mon, 31 Mar 2025) EndedAt: 2025-03-31 17:49:04 -0400 (Mon, 31 Mar 2025) EllapsedTime: 33.8 seconds RetCode: 0 Status: OK