Package: MPRAnalyze Version: 1.24.0 Command: /home/biocbuild/bbs-3.20-bioc/R/bin/R CMD build --keep-empty-dirs --no-resave-data --md5 MPRAnalyze StartedAt: 2025-03-31 18:10:02 -0400 (Mon, 31 Mar 2025) EndedAt: 2025-03-31 18:11:09 -0400 (Mon, 31 Mar 2025) EllapsedTime: 67.1 seconds RetCode: 0 Status: OK PackageFile: MPRAnalyze_1.24.0.tar.gz PackageFileSize: 560.8 KiB