Package: MQmetrics Version: 1.14.0 Command: /Library/Frameworks/R.framework/Resources/bin/R CMD INSTALL MQmetrics StartedAt: 2025-03-31 18:09:11 -0400 (Mon, 31 Mar 2025) EndedAt: 2025-03-31 18:09:19 -0400 (Mon, 31 Mar 2025) EllapsedTime: 8.2 seconds RetCode: 0 Status: OK