Package: MSstatsBig Version: 1.4.0 Command: /Library/Frameworks/R.framework/Resources/bin/R CMD build --keep-empty-dirs --no-resave-data MSstatsBig StartedAt: 2025-04-01 03:54:14 -0400 (Tue, 01 Apr 2025) EndedAt: 2025-04-01 03:54:36 -0400 (Tue, 01 Apr 2025) EllapsedTime: 22.0 seconds RetCode: 0 Status: OK PackageFile: MSstatsBig_1.4.0.tar.gz PackageFileSize: 70.08 KiB