Package: MSstatsShiny Version: 1.8.0 Command: /home/biocbuild/R/R/bin/R CMD INSTALL MSstatsShiny StartedAt: 2025-03-31 20:59:57 -0000 (Mon, 31 Mar 2025) EndedAt: 2025-03-31 21:00:31 -0000 (Mon, 31 Mar 2025) EllapsedTime: 33.5 seconds RetCode: 0 Status: OK