Package: MantelCorr Version: 1.76.0 Command: /Library/Frameworks/R.framework/Resources/bin/R CMD INSTALL MantelCorr StartedAt: 2025-03-31 15:08:27 -0400 (Mon, 31 Mar 2025) EndedAt: 2025-03-31 15:08:40 -0400 (Mon, 31 Mar 2025) EllapsedTime: 13.0 seconds RetCode: 0 Status: OK