Package: MassArray Version: 1.58.0 Command: /home/biocbuild/R/R/bin/R CMD build --keep-empty-dirs --no-resave-data MassArray StartedAt: 2025-04-01 00:33:18 -0000 (Tue, 01 Apr 2025) EndedAt: 2025-04-01 00:33:48 -0000 (Tue, 01 Apr 2025) EllapsedTime: 30.0 seconds RetCode: 0 Status: OK PackageFile: MassArray_1.58.0.tar.gz PackageFileSize: 368.8 KiB