Package: MesKit Version: 1.16.0 Command: /Library/Frameworks/R.framework/Resources/bin/R CMD build --keep-empty-dirs --no-resave-data MesKit StartedAt: 2025-04-01 02:31:18 -0400 (Tue, 01 Apr 2025) EndedAt: 2025-04-01 02:32:55 -0400 (Tue, 01 Apr 2025) EllapsedTime: 96.8 seconds RetCode: 0 Status: OK PackageFile: MesKit_1.16.0.tar.gz PackageFileSize: 4.007 MiB