Package: MetaCyto Version: 1.28.0 Command: /home/biocbuild/R/R/bin/R CMD INSTALL MetaCyto StartedAt: 2025-03-31 21:09:01 -0000 (Mon, 31 Mar 2025) EndedAt: 2025-03-31 21:09:19 -0000 (Mon, 31 Mar 2025) EllapsedTime: 17.5 seconds RetCode: 0 Status: OK