Package: MetaNeighbor Version: 1.26.0 Command: /home/biocbuild/R/R/bin/R CMD build --keep-empty-dirs --no-resave-data MetaNeighbor StartedAt: 2025-04-01 00:39:43 -0000 (Tue, 01 Apr 2025) EndedAt: 2025-04-01 00:43:08 -0000 (Tue, 01 Apr 2025) EllapsedTime: 205.1 seconds RetCode: 0 Status: OK PackageFile: MetaNeighbor_1.26.0.tar.gz PackageFileSize: 3.184 MiB