Package: MinimumDistance Version: 1.50.0 Command: /Library/Frameworks/R.framework/Resources/bin/R CMD build --keep-empty-dirs --no-resave-data MinimumDistance StartedAt: 2025-04-01 03:10:24 -0400 (Tue, 01 Apr 2025) EndedAt: 2025-04-01 03:12:05 -0400 (Tue, 01 Apr 2025) EllapsedTime: 100.3 seconds RetCode: 0 Status: OK PackageFile: MinimumDistance_1.50.0.tar.gz PackageFileSize: 2.552 MiB