Package: MinimumDistance Version: 1.50.0 Command: /home/biocbuild/R/R/bin/R CMD INSTALL MinimumDistance StartedAt: 2025-03-31 21:10:56 -0000 (Mon, 31 Mar 2025) EndedAt: 2025-03-31 21:11:58 -0000 (Mon, 31 Mar 2025) EllapsedTime: 61.6 seconds RetCode: 0 Status: OK