Package: MsBackendMsp Version: 1.10.0 Command: /Library/Frameworks/R.framework/Resources/bin/R CMD INSTALL MsBackendMsp StartedAt: 2025-03-31 15:58:54 -0400 (Mon, 31 Mar 2025) EndedAt: 2025-03-31 15:59:05 -0400 (Mon, 31 Mar 2025) EllapsedTime: 10.8 seconds RetCode: 0 Status: OK