Package: MsCoreUtils Version: 1.18.0 Command: /Library/Frameworks/R.framework/Resources/bin/R CMD build --keep-empty-dirs --no-resave-data MsCoreUtils StartedAt: 2024-11-08 18:16:30 -0500 (Fri, 08 Nov 2024) EndedAt: 2024-11-08 18:16:35 -0500 (Fri, 08 Nov 2024) EllapsedTime: 5.1 seconds RetCode: 0 Status: OK PackageFile: MsCoreUtils_1.18.0.tar.gz PackageFileSize: 411.9 KiB