Package: MultiBaC Version: 1.16.0 Command: /Library/Frameworks/R.framework/Resources/bin/R CMD build --keep-empty-dirs --no-resave-data MultiBaC StartedAt: 2025-04-01 03:56:28 -0400 (Tue, 01 Apr 2025) EndedAt: 2025-04-01 03:57:46 -0400 (Tue, 01 Apr 2025) EllapsedTime: 78.4 seconds RetCode: 0 Status: OK PackageFile: MultiBaC_1.16.0.tar.gz PackageFileSize: 1.746 MiB