Package: MultiRNAflow Version: 1.4.0 Command: /Library/Frameworks/R.framework/Resources/bin/R CMD build --keep-empty-dirs --no-resave-data MultiRNAflow StartedAt: 2025-03-31 20:29:07 -0400 (Mon, 31 Mar 2025) EndedAt: 2025-03-31 20:43:31 -0400 (Mon, 31 Mar 2025) EllapsedTime: 863.3 seconds RetCode: 0 Status: OK PackageFile: MultiRNAflow_1.4.0.tar.gz PackageFileSize: 3.142 MiB