Package: MutationalPatterns Version: 3.16.0 Command: /Library/Frameworks/R.framework/Resources/bin/R CMD build --keep-empty-dirs --no-resave-data MutationalPatterns StartedAt: 2025-04-01 04:06:08 -0400 (Tue, 01 Apr 2025) EndedAt: 2025-04-01 04:09:22 -0400 (Tue, 01 Apr 2025) EllapsedTime: 193.9 seconds RetCode: 1 Status: ERROR PackageFile: None PackageFileSize: NA