Package: MutationalPatterns Version: 3.16.0 Command: /home/biocbuild/R/R/bin/R CMD build --keep-empty-dirs --no-resave-data MutationalPatterns StartedAt: 2025-04-01 01:05:59 -0000 (Tue, 01 Apr 2025) EndedAt: 2025-04-01 01:18:07 -0000 (Tue, 01 Apr 2025) EllapsedTime: 727.6 seconds RetCode: 0 Status: OK PackageFile: MutationalPatterns_3.16.0.tar.gz PackageFileSize: 3.544 MiB