Package: NanoStringDiff Version: 1.36.0 Command: /home/biocbuild/R/R/bin/R CMD build --keep-empty-dirs --no-resave-data NanoStringDiff StartedAt: 2025-04-01 01:07:31 -0000 (Tue, 01 Apr 2025) EndedAt: 2025-04-01 01:07:55 -0000 (Tue, 01 Apr 2025) EllapsedTime: 24.0 seconds RetCode: 0 Status: OK PackageFile: NanoStringDiff_1.36.0.tar.gz PackageFileSize: 406.6 KiB