Package: OTUbase Version: 1.56.0 Command: /Library/Frameworks/R.framework/Resources/bin/R CMD INSTALL OTUbase StartedAt: 2025-03-31 16:19:13 -0400 (Mon, 31 Mar 2025) EndedAt: 2025-03-31 16:19:49 -0400 (Mon, 31 Mar 2025) EllapsedTime: 36.2 seconds RetCode: 0 Status: OK