Package: OUTRIDER Version: 1.24.0 Command: /Library/Frameworks/R.framework/Resources/bin/R CMD INSTALL OUTRIDER StartedAt: 2025-03-31 17:43:05 -0400 (Mon, 31 Mar 2025) EndedAt: 2025-03-31 17:44:06 -0400 (Mon, 31 Mar 2025) EllapsedTime: 61.3 seconds RetCode: 0 Status: OK