Package: Path2PPI Version: 1.36.0 Command: /Library/Frameworks/R.framework/Resources/bin/R CMD build --keep-empty-dirs --no-resave-data Path2PPI StartedAt: 2025-04-01 04:54:56 -0400 (Tue, 01 Apr 2025) EndedAt: 2025-04-01 04:55:12 -0400 (Tue, 01 Apr 2025) EllapsedTime: 15.6 seconds RetCode: 0 Status: OK PackageFile: Path2PPI_1.36.0.tar.gz PackageFileSize: 1.443 MiB