Package: PathNet Version: 1.46.0 Command: /home/biocbuild/R/R/bin/R CMD build --keep-empty-dirs --no-resave-data PathNet StartedAt: 2025-04-01 01:28:07 -0000 (Tue, 01 Apr 2025) EndedAt: 2025-04-01 01:29:16 -0000 (Tue, 01 Apr 2025) EllapsedTime: 69.0 seconds RetCode: 0 Status: OK PackageFile: PathNet_1.46.0.tar.gz PackageFileSize: 813.2 KiB