Package: Prostar Version: 1.38.1 Command: /home/biocbuild/R/R/bin/R CMD INSTALL Prostar StartedAt: 2025-03-31 20:56:14 -0000 (Mon, 31 Mar 2025) EndedAt: 2025-03-31 20:57:00 -0000 (Mon, 31 Mar 2025) EllapsedTime: 45.8 seconds RetCode: 0 Status: OK