Package: RCX Version: 1.10.0 Command: /home/biocbuild/R/R/bin/R CMD INSTALL RCX StartedAt: 2025-03-31 20:16:56 -0000 (Mon, 31 Mar 2025) EndedAt: 2025-03-31 20:17:27 -0000 (Mon, 31 Mar 2025) EllapsedTime: 31.7 seconds RetCode: 0 Status: OK