Package: RGraph2js Version: 1.34.0 Command: /Library/Frameworks/R.framework/Resources/bin/R CMD build --keep-empty-dirs --no-resave-data RGraph2js StartedAt: 2025-04-01 06:08:59 -0400 (Tue, 01 Apr 2025) EndedAt: 2025-04-01 06:09:18 -0400 (Tue, 01 Apr 2025) EllapsedTime: 19.3 seconds RetCode: 0 Status: OK PackageFile: RGraph2js_1.34.0.tar.gz PackageFileSize: 2.343 MiB