Package: RNAmodR.RiboMethSeq Version: 1.20.0 Command: /Library/Frameworks/R.framework/Resources/bin/R CMD build --keep-empty-dirs --no-resave-data RNAmodR.RiboMethSeq StartedAt: 2025-04-01 06:26:55 -0400 (Tue, 01 Apr 2025) EndedAt: 2025-04-01 06:29:14 -0400 (Tue, 01 Apr 2025) EllapsedTime: 139.3 seconds RetCode: 0 Status: OK PackageFile: RNAmodR.RiboMethSeq_1.20.0.tar.gz PackageFileSize: 639 KiB