Package: RNAmodR.RiboMethSeq Version: 1.20.0 Command: /home/biocbuild/R/R/bin/R CMD INSTALL RNAmodR.RiboMethSeq StartedAt: 2025-03-31 20:48:45 -0000 (Mon, 31 Mar 2025) EndedAt: 2025-03-31 20:49:58 -0000 (Mon, 31 Mar 2025) EllapsedTime: 72.4 seconds RetCode: 0 Status: OK