Package: ROCpAI Version: 1.18.0 Command: /Library/Frameworks/R.framework/Resources/bin/R CMD build --keep-empty-dirs --no-resave-data ROCpAI StartedAt: 2025-04-01 06:32:16 -0400 (Tue, 01 Apr 2025) EndedAt: 2025-04-01 06:32:53 -0400 (Tue, 01 Apr 2025) EllapsedTime: 37.5 seconds RetCode: 0 Status: OK PackageFile: ROCpAI_1.18.0.tar.gz PackageFileSize: 427.1 KiB