Package: ROCpAI Version: 1.18.0 Command: /home/biocbuild/R/R/bin/R CMD build --keep-empty-dirs --no-resave-data ROCpAI StartedAt: 2025-04-01 02:11:57 -0000 (Tue, 01 Apr 2025) EndedAt: 2025-04-01 02:12:36 -0000 (Tue, 01 Apr 2025) EllapsedTime: 39.0 seconds RetCode: 0 Status: OK PackageFile: ROCpAI_1.18.0.tar.gz PackageFileSize: 408.2 KiB