Package: RTCA Version: 1.58.0 Command: /home/biocbuild/R/R/bin/R CMD build --keep-empty-dirs --no-resave-data RTCA StartedAt: 2025-04-01 02:14:49 -0000 (Tue, 01 Apr 2025) EndedAt: 2025-04-01 02:15:01 -0000 (Tue, 01 Apr 2025) EllapsedTime: 12.0 seconds RetCode: 0 Status: OK PackageFile: RTCA_1.58.0.tar.gz PackageFileSize: 330 KiB