Package: RUVcorr Version: 1.38.0 Command: /home/biocbuild/R/R/bin/R CMD INSTALL RUVcorr StartedAt: 2025-03-31 20:29:16 -0000 (Mon, 31 Mar 2025) EndedAt: 2025-03-31 20:29:21 -0000 (Mon, 31 Mar 2025) EllapsedTime: 5.1 seconds RetCode: 0 Status: OK