Package: RUVnormalize Version: 1.40.0 Command: /Library/Frameworks/R.framework/Resources/bin/R CMD build --keep-empty-dirs --no-resave-data RUVnormalize StartedAt: 2025-03-31 21:36:35 -0400 (Mon, 31 Mar 2025) EndedAt: 2025-03-31 21:37:11 -0400 (Mon, 31 Mar 2025) EllapsedTime: 35.7 seconds RetCode: 0 Status: OK PackageFile: RUVnormalize_1.40.0.tar.gz PackageFileSize: 190.7 KiB