Package: RankProd Version: 3.32.0 Command: /Library/Frameworks/R.framework/Resources/bin/R CMD build --keep-empty-dirs --no-resave-data RankProd StartedAt: 2025-04-01 05:48:15 -0400 (Tue, 01 Apr 2025) EndedAt: 2025-04-01 05:48:36 -0400 (Tue, 01 Apr 2025) EllapsedTime: 20.9 seconds RetCode: 0 Status: OK PackageFile: RankProd_3.32.0.tar.gz PackageFileSize: 776.9 KiB