Package: Rbec Version: 1.14.0 Command: /Library/Frameworks/R.framework/Resources/bin/R CMD INSTALL Rbec StartedAt: 2025-03-31 16:21:41 -0400 (Mon, 31 Mar 2025) EndedAt: 2025-03-31 16:21:49 -0400 (Mon, 31 Mar 2025) EllapsedTime: 8.5 seconds RetCode: 1 Status: ERROR