Package: ReactomeContentService4R Version: 1.14.0 Command: /Library/Frameworks/R.framework/Resources/bin/R CMD build --keep-empty-dirs --no-resave-data ReactomeContentService4R StartedAt: 2025-03-31 21:19:51 -0400 (Mon, 31 Mar 2025) EndedAt: 2025-03-31 21:20:36 -0400 (Mon, 31 Mar 2025) EllapsedTime: 44.9 seconds RetCode: 0 Status: OK PackageFile: ReactomeContentService4R_1.14.0.tar.gz PackageFileSize: 2.281 MiB