Package: ReactomeContentService4R Version: 1.14.0 Command: /home/biocbuild/R/R/bin/R CMD build --keep-empty-dirs --no-resave-data ReactomeContentService4R StartedAt: 2025-04-01 01:57:08 -0000 (Tue, 01 Apr 2025) EndedAt: 2025-04-01 01:58:24 -0000 (Tue, 01 Apr 2025) EllapsedTime: 76.0 seconds RetCode: 0 Status: OK PackageFile: ReactomeContentService4R_1.14.0.tar.gz PackageFileSize: 2.351 MiB