Package: ReactomeGSA Version: 1.20.0 Command: /Library/Frameworks/R.framework/Resources/bin/R CMD build --keep-empty-dirs --no-resave-data ReactomeGSA StartedAt: 2025-04-01 05:58:35 -0400 (Tue, 01 Apr 2025) EndedAt: 2025-04-01 06:02:29 -0400 (Tue, 01 Apr 2025) EllapsedTime: 233.4 seconds RetCode: 0 Status: OK PackageFile: ReactomeGSA_1.20.0.tar.gz PackageFileSize: 366.4 KiB