Package: RedisParam Version: 1.8.0 Command: F:\biocbuild\bbs-3.20-bioc\R\bin\R.exe CMD INSTALL RedisParam StartedAt: 2025-03-31 15:38:56 -0400 (Mon, 31 Mar 2025) EndedAt: 2025-03-31 15:39:27 -0400 (Mon, 31 Mar 2025) EllapsedTime: 31.2 seconds RetCode: 0 Status: OK