Package: RepViz Version: 1.22.0 Command: /Library/Frameworks/R.framework/Resources/bin/R CMD build --keep-empty-dirs --no-resave-data RepViz StartedAt: 2025-03-31 21:23:05 -0400 (Mon, 31 Mar 2025) EndedAt: 2025-03-31 21:24:11 -0400 (Mon, 31 Mar 2025) EllapsedTime: 66.3 seconds RetCode: 0 Status: OK PackageFile: RepViz_1.22.0.tar.gz PackageFileSize: 273.7 KiB