Package: RepViz Version: 1.22.0 Command: /home/biocbuild/R/R/bin/R CMD build --keep-empty-dirs --no-resave-data RepViz StartedAt: 2025-04-01 02:00:44 -0000 (Tue, 01 Apr 2025) EndedAt: 2025-04-01 02:01:21 -0000 (Tue, 01 Apr 2025) EllapsedTime: 37.0 seconds RetCode: 0 Status: OK PackageFile: RepViz_1.22.0.tar.gz PackageFileSize: 203.7 KiB