Package: RiboProfiling Version: 1.36.0 Command: /home/biocbuild/R/R/bin/R CMD INSTALL RiboProfiling StartedAt: 2025-03-31 20:48:10 -0000 (Mon, 31 Mar 2025) EndedAt: 2025-03-31 20:49:13 -0000 (Mon, 31 Mar 2025) EllapsedTime: 62.4 seconds RetCode: 0 Status: OK