Package: Rsamtools Version: 2.22.0 Command: /Library/Frameworks/R.framework/Resources/bin/R CMD INSTALL Rsamtools StartedAt: 2025-03-31 15:50:49 -0400 (Mon, 31 Mar 2025) EndedAt: 2025-03-31 15:51:35 -0400 (Mon, 31 Mar 2025) EllapsedTime: 45.7 seconds RetCode: 0 Status: OK