Package: SC3 Version: 1.34.0 Command: /home/biocbuild/bbs-3.20-bioc/R/bin/R CMD build --keep-empty-dirs --no-resave-data --md5 SC3 StartedAt: 2025-03-31 18:55:36 -0400 (Mon, 31 Mar 2025) EndedAt: 2025-03-31 19:02:03 -0400 (Mon, 31 Mar 2025) EllapsedTime: 387.4 seconds RetCode: 0 Status: OK PackageFile: SC3_1.34.0.tar.gz PackageFileSize: 3.356 MiB