Package: SCArray.sat Version: 1.6.0 Command: /home/biocbuild/R/R/bin/R CMD build --keep-empty-dirs --no-resave-data SCArray.sat StartedAt: 2025-04-01 02:21:21 -0000 (Tue, 01 Apr 2025) EndedAt: 2025-04-01 02:22:59 -0000 (Tue, 01 Apr 2025) EllapsedTime: 98.1 seconds RetCode: 0 Status: OK PackageFile: SCArray.sat_1.6.0.tar.gz PackageFileSize: 542.9 KiB